BEGIN:VCALENDAR
VERSION:2.0
PRODID:-//Keough &amp; Moody - ECPv6.15.20//NONSGML v1.0//EN
CALSCALE:GREGORIAN
METHOD:PUBLISH
X-WR-CALNAME:Keough &amp; Moody
X-ORIGINAL-URL:https://kmlegal.com
X-WR-CALDESC:Events for Keough &amp; Moody
REFRESH-INTERVAL;VALUE=DURATION:PT1H
X-Robots-Tag:noindex
X-PUBLISHED-TTL:PT1H
BEGIN:VTIMEZONE
TZID:America/Chicago
BEGIN:DAYLIGHT
TZOFFSETFROM:-0600
TZOFFSETTO:-0500
TZNAME:CDT
DTSTART:20250309T080000
END:DAYLIGHT
BEGIN:STANDARD
TZOFFSETFROM:-0500
TZOFFSETTO:-0600
TZNAME:CST
DTSTART:20251102T070000
END:STANDARD
BEGIN:DAYLIGHT
TZOFFSETFROM:-0600
TZOFFSETTO:-0500
TZNAME:CDT
DTSTART:20260308T080000
END:DAYLIGHT
BEGIN:STANDARD
TZOFFSETFROM:-0500
TZOFFSETTO:-0600
TZNAME:CST
DTSTART:20261101T070000
END:STANDARD
BEGIN:DAYLIGHT
TZOFFSETFROM:-0600
TZOFFSETTO:-0500
TZNAME:CDT
DTSTART:20270314T080000
END:DAYLIGHT
BEGIN:STANDARD
TZOFFSETFROM:-0500
TZOFFSETTO:-0600
TZNAME:CST
DTSTART:20271107T070000
END:STANDARD
END:VTIMEZONE
BEGIN:VEVENT
DTSTART;TZID=America/Chicago:20260429T120000
DTEND;TZID=America/Chicago:20260429T140000
DTSTAMP:20260423T031326
CREATED:20260306T174824Z
LAST-MODIFIED:20260311T171824Z
UID:2264-1777464000-1777471200@kmlegal.com
SUMMARY:Top 10 Behaviors That Distinguish Great Boards From Good Ones (In No Particular Order)
DESCRIPTION:Keough & Moody Webinar \nWednesday\, April 29\, 2026\, at 12:00 p.m. \nTOP 10 BEHAVIORS THAT DISTINGUISH GREAT BOARDS FROM GOOD ONES \n(IN NO PARTICULAR ORDER) \n2 hours of continuing education credit will be provided* \n  \nGabby Comstock & Dawn Moody of Keough & Moody \nApril 29\, 2026\, 12:00 p.m.-2:00 p.m. \n  \nOver the years\, Gabby and Dawn have had the pleasure of working with some really great boards and board members. As we often talk about what boards are doing wrong\, Dawn and Gabby decided it is time to talk about the boards that are not only doing it right but also doing it GREAT! In this two-hour webinar\, Gabby and Dawn will talk about what distinguishes a great board from a good one. During this discussion\, attendees will learn what they can do to help the board members they manage or work with to focus on certain behaviors. Gabby and Dawn will provide specific examples of how great boards have handled hard situations. The goal of this webinar is not only to energize managers and board members to do better\, but also to remind everyone that following some basic guidelines can make serving on and working with a board so much better! \nJoin Gabby and Dawn in this 2-hour webinar by registering to attend here. \n  \n*”Top 10 Behaviors That Distinguish Great Boards From Good Ones (In No Particular Order)” is approved by the Community Association Managers International Certification Board (CAMICB) to fulfill continuing education requirements for the CMCA® certification. It is also approved by the IDFPR to fulfill continuing education requirements for maintaining a community association manager license. \n 
URL:https://kmlegal.com/event/top-10-behaviors-that-distinguish-great-boards-from-good-ones-in-no-particular-order/
END:VEVENT
END:VCALENDAR