BEGIN:VCALENDAR
VERSION:2.0
PRODID:-//Keough &amp; Moody - ECPv6.15.20//NONSGML v1.0//EN
CALSCALE:GREGORIAN
METHOD:PUBLISH
X-ORIGINAL-URL:https://kmlegal.com
X-WR-CALDESC:Events for Keough &amp; Moody
REFRESH-INTERVAL;VALUE=DURATION:PT1H
X-Robots-Tag:noindex
X-PUBLISHED-TTL:PT1H
BEGIN:VTIMEZONE
TZID:America/Chicago
BEGIN:DAYLIGHT
TZOFFSETFROM:-0600
TZOFFSETTO:-0500
TZNAME:CDT
DTSTART:20240310T080000
END:DAYLIGHT
BEGIN:STANDARD
TZOFFSETFROM:-0500
TZOFFSETTO:-0600
TZNAME:CST
DTSTART:20241103T070000
END:STANDARD
BEGIN:DAYLIGHT
TZOFFSETFROM:-0600
TZOFFSETTO:-0500
TZNAME:CDT
DTSTART:20250309T080000
END:DAYLIGHT
BEGIN:STANDARD
TZOFFSETFROM:-0500
TZOFFSETTO:-0600
TZNAME:CST
DTSTART:20251102T070000
END:STANDARD
BEGIN:DAYLIGHT
TZOFFSETFROM:-0600
TZOFFSETTO:-0500
TZNAME:CDT
DTSTART:20260308T080000
END:DAYLIGHT
BEGIN:STANDARD
TZOFFSETFROM:-0500
TZOFFSETTO:-0600
TZNAME:CST
DTSTART:20261101T070000
END:STANDARD
END:VTIMEZONE
BEGIN:VEVENT
DTSTART;TZID=America/Chicago:20250122T120000
DTEND;TZID=America/Chicago:20250122T133000
DTSTAMP:20260423T124210
CREATED:20241216T195325Z
LAST-MODIFIED:20250115T164309Z
UID:2042-1737547200-1737552600@kmlegal.com
SUMMARY:Keough & Moody Webinar: New Year\, New You: Habits to Break in 2025
DESCRIPTION:KEOUGH & MOODY WEBINAR: \nNEW YEAR\, NEW YOU: \nHABITS TO BREAK IN 2025 \nJanuary 22\, 2025 \n12:00 p.m. – 1:30 p.m. \n*2 hours of continuing education credit will be provided \nNo\, in this webinar Dawn and Gabby will not be selling you a weight loss or fitness program! What they will be doing is reviewing those habits and tendencies that we need to leave in 2024. We all hear the grumblings of how different (and difficult) it is to manage a community association in this day and age. This is true whether you are a member of the board of directors or a member of the community association team. While some of this is a sign of our times\, some of this is because of not so great habits we all (including Gabby and Dawn) have developed over the years. In this webinar\, Dawn and Gabby will review the three “big” of “bad” habits that we need to break in 2025 and discuss how to do so. This webinar will not be  a time to judge\, but instead a time to motivate and encourage all of us to work together to establish better habits and practices to make 2025 great! \nClick here and register in advance for this webinar. \n  \n“New Year\, New You: Habits to Break in 2025” is approved by Community Association Managers International Certification Board (CAMICB) to fulfill continuing education requirements for the CMCA® certification. \n 
URL:https://kmlegal.com/event/keough-moody-webinar-new-year-new-you-habits-to-break-in-2025/
END:VEVENT
END:VCALENDAR