BEGIN:VCALENDAR
VERSION:2.0
PRODID:-//Keough &amp; Moody - ECPv6.15.20//NONSGML v1.0//EN
CALSCALE:GREGORIAN
METHOD:PUBLISH
X-ORIGINAL-URL:https://kmlegal.com
X-WR-CALDESC:Events for Keough &amp; Moody
REFRESH-INTERVAL;VALUE=DURATION:PT1H
X-Robots-Tag:noindex
X-PUBLISHED-TTL:PT1H
BEGIN:VTIMEZONE
TZID:America/Chicago
BEGIN:DAYLIGHT
TZOFFSETFROM:-0600
TZOFFSETTO:-0500
TZNAME:CDT
DTSTART:20240310T080000
END:DAYLIGHT
BEGIN:STANDARD
TZOFFSETFROM:-0500
TZOFFSETTO:-0600
TZNAME:CST
DTSTART:20241103T070000
END:STANDARD
BEGIN:DAYLIGHT
TZOFFSETFROM:-0600
TZOFFSETTO:-0500
TZNAME:CDT
DTSTART:20250309T080000
END:DAYLIGHT
BEGIN:STANDARD
TZOFFSETFROM:-0500
TZOFFSETTO:-0600
TZNAME:CST
DTSTART:20251102T070000
END:STANDARD
BEGIN:DAYLIGHT
TZOFFSETFROM:-0600
TZOFFSETTO:-0500
TZNAME:CDT
DTSTART:20260308T080000
END:DAYLIGHT
BEGIN:STANDARD
TZOFFSETFROM:-0500
TZOFFSETTO:-0600
TZNAME:CST
DTSTART:20261101T070000
END:STANDARD
END:VTIMEZONE
BEGIN:VEVENT
DTSTART;TZID=America/Chicago:20250827T120000
DTEND;TZID=America/Chicago:20250827T140000
DTSTAMP:20260423T014349
CREATED:20250429T144431Z
LAST-MODIFIED:20250429T144615Z
UID:2099-1756296000-1756303200@kmlegal.com
SUMMARY:KEOUGH & MOODY WEBINAR: TRUE OR FALSE: TEST YOUR KNOWLEDGE
DESCRIPTION:KEOUGH & MOODY WEBINAR\nTRUE OR FALSE: TEST YOUR KNOWLEDGE\nAugust 27\, 2025\, 12:00 p.m.\n2 hours of continuing education credit will be provided \n  \nTest your knowledge during this webinar! Don’t worry\, no one but you will know your score! \nWhile you may enter this webinar not knowing the answers to some questions that relate to common situations within a community association\, by the end of the webinar you will know the answer. You will also understand why the answers are true or false. Join Dawn and Gabby as they test your knowledge on questions related to meeting notices\, meeting minutes\, voting at annual meetings\, document requests and rules and regulations. After this 2 hour webinar\, you can then test the knowledge of your fellow community association managers and members of the board of directors. \nRegistration is required for EVERY attendee to ensure continuing education credit can be given.  \nPlease click here to visit the registration page.  \n  \n“True or False: Test Your Knowledge” is approved by Community Association Managers International Certification Board (CAMICB) to fulfill continuing education requirements for the CMCA® certification. \nIt is also approved by the IDFPR to fulfill continuing education requirements for maintaining a community association manager license. \n 
URL:https://kmlegal.com/event/keough-moody-webinar-true-or-false-test-your-knowledge/
END:VEVENT
END:VCALENDAR